BEGIN:VCALENDAR
VERSION:2.0
PRODID:-//Orange County Restorative Justice Center - ECPv6.15.20//NONSGML v1.0//EN
CALSCALE:GREGORIAN
METHOD:PUBLISH
X-ORIGINAL-URL:https://ocrjvt.org
X-WR-CALDESC:Events for Orange County Restorative Justice Center
REFRESH-INTERVAL;VALUE=DURATION:PT1H
X-Robots-Tag:noindex
X-PUBLISHED-TTL:PT1H
BEGIN:VTIMEZONE
TZID:UTC
BEGIN:STANDARD
TZOFFSETFROM:+0000
TZOFFSETTO:+0000
TZNAME:UTC
DTSTART:20220101T000000
END:STANDARD
END:VTIMEZONE
BEGIN:VEVENT
DTSTART;TZID=UTC:20230622T180000
DTEND;TZID=UTC:20230622T200000
DTSTAMP:20260419T194019
CREATED:20230511T180753Z
LAST-MODIFIED:20230511T180758Z
UID:1287-1687456800-1687464000@ocrjvt.org
SUMMARY:“What is Accountability?” Community Circle
DESCRIPTION:Chelsea\, VT: Kym will facilitate this storytelling and conversation circle. We suggest reading the chapter “In Praise of Accountability” from Until We Reckon as prep\, though it is not required. Kiara reviews the book at the end of this newsletter\, and you can read the book chapter here.  New to Circle? Learn the basics of the format and origins here. Contact Lisa@ok3.bc2.myftpupload.com to RSVP.
URL:https://ocrjvt.org/event/what-is-accountability-community-circle/
CATEGORIES:Events
END:VEVENT
END:VCALENDAR