BEGIN:VCALENDAR
VERSION:2.0
PRODID:-//Orange County Restorative Justice Center - ECPv6.15.20//NONSGML v1.0//EN
CALSCALE:GREGORIAN
METHOD:PUBLISH
X-ORIGINAL-URL:https://ocrjvt.org
X-WR-CALDESC:Events for Orange County Restorative Justice Center
REFRESH-INTERVAL;VALUE=DURATION:PT1H
X-Robots-Tag:noindex
X-PUBLISHED-TTL:PT1H
BEGIN:VTIMEZONE
TZID:UTC
BEGIN:STANDARD
TZOFFSETFROM:+0000
TZOFFSETTO:+0000
TZNAME:UTC
DTSTART:20220101T000000
END:STANDARD
END:VTIMEZONE
BEGIN:VEVENT
DTSTART;VALUE=DATE:20231226
DTEND;VALUE=DATE:20231227
DTSTAMP:20260419T192648
CREATED:20230410T114917Z
LAST-MODIFIED:20230410T114917Z
UID:1260-1703548800-1703635199@ocrjvt.org
SUMMARY:OCRJC CLOSED
DESCRIPTION:OCRJC will be closed today for the Holidays
URL:https://ocrjvt.org/event/ocrjc-closed-8/
CATEGORIES:Events
END:VEVENT
BEGIN:VEVENT
DTSTART;VALUE=DATE:20231227
DTEND;VALUE=DATE:20231228
DTSTAMP:20260419T192648
CREATED:20230410T114942Z
LAST-MODIFIED:20230410T114942Z
UID:1263-1703635200-1703721599@ocrjvt.org
SUMMARY:OCRJC CLOSED
DESCRIPTION:OCRJC will be closed today for the Holidays
URL:https://ocrjvt.org/event/ocrjc-closed-9/
CATEGORIES:Events
END:VEVENT
BEGIN:VEVENT
DTSTART;TZID=UTC:20231227T130000
DTEND;TZID=UTC:20231227T150000
DTSTAMP:20260419T192648
CREATED:20230406T134455Z
LAST-MODIFIED:20240124T132816Z
UID:1190-1703682000-1703689200@ocrjvt.org
SUMMARY:Work Rules Training
DESCRIPTION:A 2-hour live\, virtual training led by the VT Department of Corrections\, and required for all restorative justice staff & volunteers. This training is required every 2 years. Contact Lisa@ok3.bc2.myftpupload.com for details.
URL:https://ocrjvt.org/event/work-rules-training-35/
LOCATION:Online via ZOOM
CATEGORIES:Events
END:VEVENT
BEGIN:VEVENT
DTSTART;VALUE=DATE:20231228
DTEND;VALUE=DATE:20231229
DTSTAMP:20260419T192648
CREATED:20230410T115009Z
LAST-MODIFIED:20230410T115009Z
UID:1265-1703721600-1703807999@ocrjvt.org
SUMMARY:OCRJC CLOSED
DESCRIPTION:OCRJC will be closed today for the Holidays
URL:https://ocrjvt.org/event/ocrjc-closed-10/
CATEGORIES:Events
END:VEVENT
BEGIN:VEVENT
DTSTART;VALUE=DATE:20231229
DTEND;VALUE=DATE:20231230
DTSTAMP:20260419T192648
CREATED:20230410T115037Z
LAST-MODIFIED:20230410T115037Z
UID:1268-1703808000-1703894399@ocrjvt.org
SUMMARY:OCRJC CLOSED
DESCRIPTION:OCRJC will be closed today for the Holidays
URL:https://ocrjvt.org/event/ocrjc-closed-11/
CATEGORIES:Events
END:VEVENT
BEGIN:VEVENT
DTSTART;VALUE=DATE:20231230
DTEND;VALUE=DATE:20231231
DTSTAMP:20260419T192648
CREATED:20230410T115105Z
LAST-MODIFIED:20230410T115105Z
UID:1271-1703894400-1703980799@ocrjvt.org
SUMMARY:OCRJC CLOSED
DESCRIPTION:OCRJC will be closed today for the Holidays
URL:https://ocrjvt.org/event/ocrjc-closed-12/
CATEGORIES:Events
END:VEVENT
BEGIN:VEVENT
DTSTART;VALUE=DATE:20231231
DTEND;VALUE=DATE:20240101
DTSTAMP:20260419T192648
CREATED:20230410T115133Z
LAST-MODIFIED:20230410T115133Z
UID:1274-1703980800-1704067199@ocrjvt.org
SUMMARY:OCRJC CLOSED
DESCRIPTION:OCRJC will be closed today for the Holidays
URL:https://ocrjvt.org/event/ocrjc-closed-13/
CATEGORIES:Events
END:VEVENT
BEGIN:VEVENT
DTSTART;VALUE=DATE:20240101
DTEND;VALUE=DATE:20240102
DTSTAMP:20260419T192648
CREATED:20230410T115202Z
LAST-MODIFIED:20230410T115202Z
UID:1277-1704067200-1704153599@ocrjvt.org
SUMMARY:OCRJC CLOSED
DESCRIPTION:OCRJC will be closed today for the Holidays
URL:https://ocrjvt.org/event/ocrjc-closed-14/
CATEGORIES:Events
END:VEVENT
BEGIN:VEVENT
DTSTART;TZID=UTC:20240610T170000
DTEND;TZID=UTC:20240610T190000
DTSTAMP:20260419T192648
CREATED:20230406T111901Z
LAST-MODIFIED:20240530T152248Z
UID:1038-1718038800-1718046000@ocrjvt.org
SUMMARY:CoSA Training-1
DESCRIPTION:A 6-hour required training for staff & volunteers in the Circle of Support and Accountability (CoSA) program. This live\, virtual training is facilitated by CoSA staff from across the state. Contact Jordan@ok3.bc2.myftpupload.com for details.
URL:https://ocrjvt.org/event/cosa-training-1-3/
LOCATION:Online via ZOOM
CATEGORIES:Events
END:VEVENT
BEGIN:VEVENT
DTSTART;TZID=UTC:20240612T170000
DTEND;TZID=UTC:20240612T190000
DTSTAMP:20260419T192648
CREATED:20230406T112012Z
LAST-MODIFIED:20240530T152359Z
UID:1041-1718211600-1718218800@ocrjvt.org
SUMMARY:CoSA Training-2
DESCRIPTION:A 6-hour required training for staff & volunteers in the Circle of Support and Accountability (CoSA) program. This live\, virtual training is facilitated by CoSA staff from across the state. Contact Jordan@ok3.bc2.myftpupload.com for details.
URL:https://ocrjvt.org/event/cosa-training-2-4/
LOCATION:Online via ZOOM
CATEGORIES:Events
END:VEVENT
BEGIN:VEVENT
DTSTART;TZID=UTC:20240612T170000
DTEND;TZID=UTC:20240612T200000
DTSTAMP:20260419T192648
CREATED:20220502T205310Z
LAST-MODIFIED:20240530T155927Z
UID:889-1718211600-1718222400@ocrjvt.org
SUMMARY:Safe Driver Class 1 - Chelsea/Remote
DESCRIPTION:Safe Driver Class\, Day 1. The class is a hybrid format – in person in Chelsea and remote via Zoom. \nClick here to register
URL:https://ocrjvt.org/event/safe-driver-class-chelsea-17/
CATEGORIES:Events
END:VEVENT
BEGIN:VEVENT
DTSTART;TZID=UTC:20240613T170000
DTEND;TZID=UTC:20240613T190000
DTSTAMP:20260419T192648
CREATED:20230406T112108Z
LAST-MODIFIED:20240530T152447Z
UID:1044-1718298000-1718305200@ocrjvt.org
SUMMARY:CoSA Training-3
DESCRIPTION:A 6-hour required training for staff & volunteers in the Circle of Support and Accountability (CoSA) program. This live\, virtual training is facilitated by CoSA staff from across the state. Contact Jordan@ok3.bc2.myftpupload.com for details.
URL:https://ocrjvt.org/event/cosa-training-3-3/
LOCATION:Online via ZOOM
CATEGORIES:Events
END:VEVENT
BEGIN:VEVENT
DTSTART;TZID=UTC:20240613T170000
DTEND;TZID=UTC:20240613T200000
DTSTAMP:20260419T192648
CREATED:20220502T205351Z
LAST-MODIFIED:20240530T160840Z
UID:891-1718298000-1718308800@ocrjvt.org
SUMMARY:Safe Driver Class 2 - Chelsea/Remote
DESCRIPTION:Safe Driver Class\, Day 2. The class is a hybrid format – in person in Chelsea and remote via Zoom. \nClick here to register
URL:https://ocrjvt.org/event/safe-driver-class-chelsea-18/
CATEGORIES:Events
END:VEVENT
BEGIN:VEVENT
DTSTART;VALUE=DATE:20240619
DTEND;VALUE=DATE:20240620
DTSTAMP:20260419T192648
CREATED:20230410T114713Z
LAST-MODIFIED:20240530T152636Z
UID:1251-1718755200-1718841599@ocrjvt.org
SUMMARY:OCRJC CLOSED
DESCRIPTION:OCRJC will be closed today for Juneteenth.
URL:https://ocrjvt.org/event/ocrjc-closed-5/
CATEGORIES:Events
END:VEVENT
BEGIN:VEVENT
DTSTART;VALUE=DATE:20240704
DTEND;VALUE=DATE:20240705
DTSTAMP:20260419T192648
CREATED:20230410T114449Z
LAST-MODIFIED:20240530T152916Z
UID:1242-1720051200-1720137599@ocrjvt.org
SUMMARY:OCRJC CLOSED
DESCRIPTION:OCRJC will be closed today for Independence Day.
URL:https://ocrjvt.org/event/ocrjc-closed-2/
CATEGORIES:Events
END:VEVENT
BEGIN:VEVENT
DTSTART;VALUE=DATE:20240902
DTEND;VALUE=DATE:20240903
DTSTAMP:20260419T192648
CREATED:20230410T114625Z
LAST-MODIFIED:20240530T152954Z
UID:1248-1725235200-1725321599@ocrjvt.org
SUMMARY:OCRJC CLOSED
DESCRIPTION:OCRJC will be closed today for Labor Day.
URL:https://ocrjvt.org/event/ocrjc-closed-4/
CATEGORIES:Events
END:VEVENT
BEGIN:VEVENT
DTSTART;VALUE=DATE:20241225
DTEND;VALUE=DATE:20250102
DTSTAMP:20260419T192648
CREATED:20230410T114845Z
LAST-MODIFIED:20240530T161012Z
UID:1257-1735084800-1735775999@ocrjvt.org
SUMMARY:OCRJC CLOSED
DESCRIPTION:OCRJC will be closed today for Winter Break.
URL:https://ocrjvt.org/event/ocrjc-closed-7/
CATEGORIES:Events
END:VEVENT
END:VCALENDAR